BEGIN:VCALENDAR
VERSION:2.0
PRODID:-//unterIrdisch - ECPv6.15.20//NONSGML v1.0//EN
CALSCALE:GREGORIAN
METHOD:PUBLISH
X-ORIGINAL-URL:https://unterirdis.ch/wordpress
X-WR-CALDESC:Veranstaltungen für unterIrdisch
REFRESH-INTERVAL;VALUE=DURATION:PT1H
X-Robots-Tag:noindex
X-PUBLISHED-TTL:PT1H
BEGIN:VTIMEZONE
TZID:Europe/Berlin
BEGIN:DAYLIGHT
TZOFFSETFROM:+0100
TZOFFSETTO:+0200
TZNAME:CEST
DTSTART:20230326T010000
END:DAYLIGHT
BEGIN:STANDARD
TZOFFSETFROM:+0200
TZOFFSETTO:+0100
TZNAME:CET
DTSTART:20231029T010000
END:STANDARD
BEGIN:DAYLIGHT
TZOFFSETFROM:+0100
TZOFFSETTO:+0200
TZNAME:CEST
DTSTART:20240331T010000
END:DAYLIGHT
BEGIN:STANDARD
TZOFFSETFROM:+0200
TZOFFSETTO:+0100
TZNAME:CET
DTSTART:20241027T010000
END:STANDARD
BEGIN:DAYLIGHT
TZOFFSETFROM:+0100
TZOFFSETTO:+0200
TZNAME:CEST
DTSTART:20250330T010000
END:DAYLIGHT
BEGIN:STANDARD
TZOFFSETFROM:+0200
TZOFFSETTO:+0100
TZNAME:CET
DTSTART:20251026T010000
END:STANDARD
END:VTIMEZONE
BEGIN:VEVENT
DTSTART;VALUE=DATE:20241007
DTEND;VALUE=DATE:20241012
DTSTAMP:20260421T135453
CREATED:20240716T102017Z
LAST-MODIFIED:20240717T130402Z
UID:2358-1728259200-1728691199@unterirdis.ch
SUMMARY:Tagung // Tagung des Nordwestdeutschen Verbands für Altertumsforschung
DESCRIPTION:Vom 7.-11. Oktober tagt der Nordwestdeutsche Verband für Altertumsforschung in Bochum. \nAlle Informationen zur Anmeldung\, Programm etc. findet ihr auf der Tagungshomepage.
URL:https://unterirdis.ch/wordpress/event/tagung-des-nordwestdeutschen-verbands-fuer-altertumsforschung/
LOCATION:Haus der Archäologien\, Am Bergbaumuseum 28\, Bochum\, 44791\, Deutschland
END:VEVENT
END:VCALENDAR